BEGIN:VCALENDAR
VERSION:2.0
PRODID:-//CLUB ZERO 熊本 | ホストクラブ | 熊本県熊本市新市街1-11 スターライトビル2 2F - ECPv5.16.4//NONSGML v1.0//EN
CALSCALE:GREGORIAN
METHOD:PUBLISH
X-ORIGINAL-URL:https://zero-kumamoto.com
X-WR-CALDESC:CLUB ZERO 熊本 | ホストクラブ | 熊本県熊本市新市街1-11 スターライトビル2 2F のイベント
REFRESH-INTERVAL;VALUE=DURATION:PT1H
X-Robots-Tag:noindex
X-PUBLISHED-TTL:PT1H
BEGIN:VTIMEZONE
TZID:Asia/Tokyo
BEGIN:STANDARD
TZOFFSETFROM:+0900
TZOFFSETTO:+0900
TZNAME:JST
DTSTART:20250101T000000
END:STANDARD
END:VTIMEZONE
BEGIN:VEVENT
DTSTART;VALUE=DATE:20251011
DTEND;VALUE=DATE:20251012
DTSTAMP:20260420T120848
CREATED:20251009T054937Z
LAST-MODIFIED:20251009T054937Z
UID:1785-1760140800-1760227199@zero-kumamoto.com
SUMMARY:藍バースデー
DESCRIPTION:
URL:https://zero-kumamoto.com/event/%e8%97%8d%e3%83%90%e3%83%bc%e3%82%b9%e3%83%87%e3%83%bc/
ATTACH;FMTTYPE=image/jpeg:https://zero-kumamoto.com/wp-content/uploads/new-image.jpg
END:VEVENT
BEGIN:VEVENT
DTSTART;VALUE=DATE:20251018
DTEND;VALUE=DATE:20251019
DTSTAMP:20260420T120848
CREATED:20251009T054953Z
LAST-MODIFIED:20251009T054953Z
UID:1787-1760745600-1760831999@zero-kumamoto.com
SUMMARY:ハロウィンイベント
DESCRIPTION:
URL:https://zero-kumamoto.com/event/%e3%83%8f%e3%83%ad%e3%82%a6%e3%82%a3%e3%83%b3%e3%82%a4%e3%83%99%e3%83%b3%e3%83%88-2/
ATTACH;FMTTYPE=image/jpeg:https://zero-kumamoto.com/wp-content/uploads/new-image.jpg
END:VEVENT
BEGIN:VEVENT
DTSTART;VALUE=DATE:20251025
DTEND;VALUE=DATE:20251026
DTSTAMP:20260420T120848
CREATED:20251009T055019Z
LAST-MODIFIED:20251009T055019Z
UID:1789-1761350400-1761436799@zero-kumamoto.com
SUMMARY:如月唯翔バースデー
DESCRIPTION:
URL:https://zero-kumamoto.com/event/%e5%a6%82%e6%9c%88%e5%94%af%e7%bf%94%e3%83%90%e3%83%bc%e3%82%b9%e3%83%87%e3%83%bc/
ATTACH;FMTTYPE=image/jpeg:https://zero-kumamoto.com/wp-content/uploads/new-image.jpg
END:VEVENT
BEGIN:VEVENT
DTSTART;VALUE=DATE:20251030
DTEND;VALUE=DATE:20251031
DTSTAMP:20260420T120848
CREATED:20251009T055034Z
LAST-MODIFIED:20251009T055034Z
UID:1791-1761782400-1761868799@zero-kumamoto.com
SUMMARY:レオバースデー
DESCRIPTION:
URL:https://zero-kumamoto.com/event/%e3%83%ac%e3%82%aa%e3%83%90%e3%83%bc%e3%82%b9%e3%83%87%e3%83%bc/
ATTACH;FMTTYPE=image/jpeg:https://zero-kumamoto.com/wp-content/uploads/new-image.jpg
END:VEVENT
END:VCALENDAR