BEGIN:VCALENDAR
VERSION:2.0
PRODID:-//CLUB ZERO 熊本 | ホストクラブ | 熊本県熊本市新市街1-11 スターライトビル2 2F - ECPv5.16.4//NONSGML v1.0//EN
CALSCALE:GREGORIAN
METHOD:PUBLISH
X-WR-CALNAME:CLUB ZERO 熊本 | ホストクラブ | 熊本県熊本市新市街1-11 スターライトビル2 2F
X-ORIGINAL-URL:https://zero-kumamoto.com
X-WR-CALDESC:CLUB ZERO 熊本 | ホストクラブ | 熊本県熊本市新市街1-11 スターライトビル2 2F のイベント
REFRESH-INTERVAL;VALUE=DURATION:PT1H
X-Robots-Tag:noindex
X-PUBLISHED-TTL:PT1H
BEGIN:VTIMEZONE
TZID:Asia/Tokyo
BEGIN:STANDARD
TZOFFSETFROM:+0900
TZOFFSETTO:+0900
TZNAME:JST
DTSTART:20250101T000000
END:STANDARD
END:VTIMEZONE
BEGIN:VEVENT
DTSTART;VALUE=DATE:20250918
DTEND;VALUE=DATE:20250919
DTSTAMP:20260420T135058
CREATED:20250909T032426Z
LAST-MODIFIED:20250909T221220Z
UID:1766-1758153600-1758239999@zero-kumamoto.com
SUMMARY:下克上Day
DESCRIPTION:
URL:https://zero-kumamoto.com/event/%e4%b8%8b%e5%85%8b%e4%b8%8a%e3%83%90%e3%83%88%e3%83%ab/
ATTACH;FMTTYPE=image/jpeg:https://zero-kumamoto.com/wp-content/uploads/new-image.jpg
END:VEVENT
BEGIN:VEVENT
DTSTART;VALUE=DATE:20250925
DTEND;VALUE=DATE:20250926
DTSTAMP:20260420T135058
CREATED:20250909T032454Z
LAST-MODIFIED:20250909T032454Z
UID:1768-1758758400-1758844799@zero-kumamoto.com
SUMMARY:夜魅バースデー
DESCRIPTION:
URL:https://zero-kumamoto.com/event/%e5%a4%9c%e9%ad%85%e3%83%90%e3%83%bc%e3%82%b9%e3%83%87%e3%83%bc/
ATTACH;FMTTYPE=image/jpeg:https://zero-kumamoto.com/wp-content/uploads/new-image.jpg
END:VEVENT
BEGIN:VEVENT
DTSTART;VALUE=DATE:20250929
DTEND;VALUE=DATE:20250930
DTSTAMP:20260420T135058
CREATED:20250909T032512Z
LAST-MODIFIED:20250909T032512Z
UID:1770-1759104000-1759190399@zero-kumamoto.com
SUMMARY:夜神雷兎バースデー
DESCRIPTION:
URL:https://zero-kumamoto.com/event/%e5%a4%9c%e7%a5%9e%e9%9b%b7%e5%85%8e%e3%83%90%e3%83%bc%e3%82%b9%e3%83%87%e3%83%bc/
ATTACH;FMTTYPE=image/jpeg:https://zero-kumamoto.com/wp-content/uploads/new-image.jpg
END:VEVENT
END:VCALENDAR