BEGIN:VCALENDAR
VERSION:2.0
PRODID:-//CLUB ZERO 熊本 | ホストクラブ | 熊本県熊本市新市街1-11 スターライトビル2 2F - ECPv5.16.4//NONSGML v1.0//EN
CALSCALE:GREGORIAN
METHOD:PUBLISH
X-WR-CALNAME:CLUB ZERO 熊本 | ホストクラブ | 熊本県熊本市新市街1-11 スターライトビル2 2F
X-ORIGINAL-URL:https://zero-kumamoto.com
X-WR-CALDESC:CLUB ZERO 熊本 | ホストクラブ | 熊本県熊本市新市街1-11 スターライトビル2 2F のイベント
REFRESH-INTERVAL;VALUE=DURATION:PT1H
X-Robots-Tag:noindex
X-PUBLISHED-TTL:PT1H
BEGIN:VTIMEZONE
TZID:Asia/Tokyo
BEGIN:STANDARD
TZOFFSETFROM:+0900
TZOFFSETTO:+0900
TZNAME:JST
DTSTART:20250101T000000
END:STANDARD
END:VTIMEZONE
BEGIN:VEVENT
DTSTART;VALUE=DATE:20250813
DTEND;VALUE=DATE:20250814
DTSTAMP:20260420T151933
CREATED:20250808T121358Z
LAST-MODIFIED:20250808T121358Z
UID:1745-1755043200-1755129599@zero-kumamoto.com
SUMMARY:夏祭りイベント
DESCRIPTION:
URL:https://zero-kumamoto.com/event/%e5%a4%8f%e7%a5%ad%e3%82%8a%e3%82%a4%e3%83%99%e3%83%b3%e3%83%88/
ATTACH;FMTTYPE=image/jpeg:https://zero-kumamoto.com/wp-content/uploads/new-image.jpg
END:VEVENT
BEGIN:VEVENT
DTSTART;VALUE=DATE:20250820
DTEND;VALUE=DATE:20250821
DTSTAMP:20260420T151933
CREATED:20250808T121417Z
LAST-MODIFIED:20250808T121417Z
UID:1747-1755648000-1755734399@zero-kumamoto.com
SUMMARY:舞風遊バースデーイベント
DESCRIPTION:
URL:https://zero-kumamoto.com/event/%e8%88%9e%e9%a2%a8%e9%81%8a%e3%83%90%e3%83%bc%e3%82%b9%e3%83%87%e3%83%bc%e3%82%a4%e3%83%99%e3%83%b3%e3%83%88/
ATTACH;FMTTYPE=image/jpeg:https://zero-kumamoto.com/wp-content/uploads/new-image.jpg
END:VEVENT
BEGIN:VEVENT
DTSTART;VALUE=DATE:20250821
DTEND;VALUE=DATE:20250822
DTSTAMP:20260420T151933
CREATED:20250808T121431Z
LAST-MODIFIED:20250808T121431Z
UID:1749-1755734400-1755820799@zero-kumamoto.com
SUMMARY:緋咲凛珠バースデーイベント
DESCRIPTION:
URL:https://zero-kumamoto.com/event/%e7%b7%8b%e5%92%b2%e5%87%9b%e7%8f%a0%e3%83%90%e3%83%bc%e3%82%b9%e3%83%87%e3%83%bc%e3%82%a4%e3%83%99%e3%83%b3%e3%83%88/
ATTACH;FMTTYPE=image/jpeg:https://zero-kumamoto.com/wp-content/uploads/new-image.jpg
END:VEVENT
END:VCALENDAR