BEGIN:VCALENDAR
VERSION:2.0
PRODID:-//CLUB ZERO 熊本 | ホストクラブ | 熊本県熊本市新市街1-11 スターライトビル2 2F - ECPv5.16.4//NONSGML v1.0//EN
CALSCALE:GREGORIAN
METHOD:PUBLISH
X-WR-CALNAME:CLUB ZERO 熊本 | ホストクラブ | 熊本県熊本市新市街1-11 スターライトビル2 2F
X-ORIGINAL-URL:https://zero-kumamoto.com
X-WR-CALDESC:CLUB ZERO 熊本 | ホストクラブ | 熊本県熊本市新市街1-11 スターライトビル2 2F のイベント
REFRESH-INTERVAL;VALUE=DURATION:PT1H
X-Robots-Tag:noindex
X-PUBLISHED-TTL:PT1H
BEGIN:VTIMEZONE
TZID:Asia/Tokyo
BEGIN:STANDARD
TZOFFSETFROM:+0900
TZOFFSETTO:+0900
TZNAME:JST
DTSTART:20260101T000000
END:STANDARD
END:VTIMEZONE
BEGIN:VEVENT
DTSTART;VALUE=DATE:20260303
DTEND;VALUE=DATE:20260316
DTSTAMP:20260420T043856
CREATED:20260307T151549Z
LAST-MODIFIED:20260307T151549Z
UID:1840-1772496000-1773619199@zero-kumamoto.com
SUMMARY:サーキットレース
DESCRIPTION:
URL:https://zero-kumamoto.com/event/%e3%82%b5%e3%83%bc%e3%82%ad%e3%83%83%e3%83%88%e3%83%ac%e3%83%bc%e3%82%b9/
ATTACH;FMTTYPE=image/jpeg:https://zero-kumamoto.com/wp-content/uploads/new-image.jpg
END:VEVENT
END:VCALENDAR