BEGIN:VCALENDAR
VERSION:2.0
PRODID:-//CLUB ZERO 熊本 | ホストクラブ | 熊本県熊本市新市街1-11 スターライトビル2 2F - ECPv5.16.4//NONSGML v1.0//EN
CALSCALE:GREGORIAN
METHOD:PUBLISH
X-ORIGINAL-URL:https://zero-kumamoto.com
X-WR-CALDESC:CLUB ZERO 熊本 | ホストクラブ | 熊本県熊本市新市街1-11 スターライトビル2 2F のイベント
REFRESH-INTERVAL;VALUE=DURATION:PT1H
X-Robots-Tag:noindex
X-PUBLISHED-TTL:PT1H
BEGIN:VTIMEZONE
TZID:Asia/Tokyo
BEGIN:STANDARD
TZOFFSETFROM:+0900
TZOFFSETTO:+0900
TZNAME:JST
DTSTART:20260101T000000
END:STANDARD
END:VTIMEZONE
BEGIN:VEVENT
DTSTART;VALUE=DATE:20260203
DTEND;VALUE=DATE:20260210
DTSTAMP:20260420T065238
CREATED:20260208T235201Z
LAST-MODIFIED:20260208T235201Z
UID:1816-1770076800-1770681599@zero-kumamoto.com
SUMMARY:ZERO TEAMRACE
DESCRIPTION:
URL:https://zero-kumamoto.com/event/zero-teamrace/
ATTACH;FMTTYPE=image/jpeg:https://zero-kumamoto.com/wp-content/uploads/new-image.jpg
END:VEVENT
END:VCALENDAR