BEGIN:VCALENDAR
VERSION:2.0
PRODID:-//CLUB ZERO 熊本 | ホストクラブ | 熊本県熊本市新市街1-11 スターライトビル2 2F - ECPv5.16.4//NONSGML v1.0//EN
CALSCALE:GREGORIAN
METHOD:PUBLISH
X-WR-CALNAME:CLUB ZERO 熊本 | ホストクラブ | 熊本県熊本市新市街1-11 スターライトビル2 2F
X-ORIGINAL-URL:https://zero-kumamoto.com
X-WR-CALDESC:CLUB ZERO 熊本 | ホストクラブ | 熊本県熊本市新市街1-11 スターライトビル2 2F のイベント
REFRESH-INTERVAL;VALUE=DURATION:PT1H
X-Robots-Tag:noindex
X-PUBLISHED-TTL:PT1H
BEGIN:VTIMEZONE
TZID:Asia/Tokyo
BEGIN:STANDARD
TZOFFSETFROM:+0900
TZOFFSETTO:+0900
TZNAME:JST
DTSTART:20250101T000000
END:STANDARD
END:VTIMEZONE
BEGIN:VEVENT
DTSTART;VALUE=DATE:20250414
DTEND;VALUE=DATE:20250415
DTSTAMP:20260420T232227
CREATED:20250406T234614Z
LAST-MODIFIED:20250406T234620Z
UID:1661-1744588800-1744675199@zero-kumamoto.com
SUMMARY:INFINITY  4/14 新人バトルイベント
DESCRIPTION:
URL:https://zero-kumamoto.com/event/infinity-4-14-%e6%96%b0%e4%ba%ba%e3%83%90%e3%83%88%e3%83%ab%e3%82%a4%e3%83%99%e3%83%b3%e3%83%88-4-26-%e5%84%aa%e7%a5%90%e4%bb%a3%e8%a1%a8/
ATTACH;FMTTYPE=image/jpeg:https://zero-kumamoto.com/wp-content/uploads/new-image.jpg
END:VEVENT
END:VCALENDAR